BEGIN:VCALENDAR
VERSION:2.0
PRODID:-//Amic Consultants - ECPv6.13.2.1//NONSGML v1.0//EN
CALSCALE:GREGORIAN
METHOD:PUBLISH
X-ORIGINAL-URL:https://amicconsultants.in
X-WR-CALDESC:Events for Amic Consultants
REFRESH-INTERVAL;VALUE=DURATION:PT1H
X-Robots-Tag:noindex
X-PUBLISHED-TTL:PT1H
BEGIN:VTIMEZONE
TZID:UTC
BEGIN:STANDARD
TZOFFSETFROM:+0000
TZOFFSETTO:+0000
TZNAME:UTC
DTSTART:20220101T000000
END:STANDARD
END:VTIMEZONE
BEGIN:VEVENT
DTSTART;TZID=UTC:20220713T080000
DTEND;TZID=UTC:20220713T170000
DTSTAMP:20260423T195715
CREATED:20220713T141831Z
LAST-MODIFIED:20220713T142241Z
UID:13776-1657699200-1657731600@amicconsultants.in
SUMMARY:Seminar on Canada PR
DESCRIPTION:Meet Expert and Learn about your eligibility. \nAmic Consultants is organizing a seminar on Canada PR for you to understand current PR programs that you may qualify under. Attend the seminar to understand and ;\n\nLearn about Express Entry\, PNP\, Farming and other PR Programs\nLearn about the changes in SINP program\nLearn about TRV\nLearn about changes in existing programs and extension of Express Entry\n\n\n(Get answers of your concerns through one to one interactions on same day between 01.00 pm to 03.00 pm and 03:00 pm to 05:00 pm)\n\n\nMeeting by Appointment Only !\n\nCall and register today to confirm your appointment.
URL:https://amicconsultants.in/event/seminar/
LOCATION:Anand\, Amic Consultant\, 203\, Maruti Sankalp Opposite APC A V Road\, Anand\, Anand\, Gujarat\, 388001\, India
CATEGORIES:PR
ATTACH;FMTTYPE=image/jpeg:https://amicconsultants.in/wp-content/uploads/2021/01/28.jpg
END:VEVENT
END:VCALENDAR